BEGIN:VCALENDAR
VERSION:2.0
PRODID:-//Plone.org//NONSGML plone.app.event//EN
X-WR-TIMEZONE:US/Central
BEGIN:VEVENT
SUMMARY:May Reading Around Town Book Club
DTSTART;TZID=US/Central:20240502T100000
DTEND;TZID=US/Central:20240530T173000
DTSTAMP:20260419T151242Z
UID:f96ca2ecf6594dd7b8308738b4363459@saas_stack_varnish:6080
CONTACT:Lisa Sisk\, 573-431-4842\, parkhillspubliclibrary@parkhillsmo.net
CREATED:20240502T211529Z
LAST-MODIFIED:20240502T211552Z
LOCATION:McCallisters Deli Farmington\,MO
URL:https://www.parkhillspl.lib.mo.us/calendar-news/events/may-reading-aro
 und-town-book-club-1
END:VEVENT
BEGIN:VTIMEZONE
TZID:US/Central
X-LIC-LOCATION:US/Central
BEGIN:DAYLIGHT
DTSTART:20240310T030000
TZNAME:CDT
TZOFFSETFROM:-0600
TZOFFSETTO:-0500
END:DAYLIGHT
END:VTIMEZONE
END:VCALENDAR
